BEGIN:VCALENDAR
VERSION:2.0
CALSCALE:GREGORIAN
PRODID:adamgibbons/ics
METHOD:PUBLISH
X-PUBLISHED-TTL:PT1H
BEGIN:VEVENT
UID:6607@gancio.cisti.org
SUMMARY:25 aprile in Zona San Paolo Antifascista
DTSTAMP:20260420T054947Z
DTSTART:20260425T100000Z
DTEND:20260425T190000Z
URL:https://gancio.cisti.org/event/25-aprile-in-zona-san-paolo-antifascista
LOCATION:Pedonale Dante Di Nanni - Via Dante Di Nanni
STATUS:CONFIRMED
CATEGORIES:25 aprile,25 Aprile,concerto,corteo,festa in piazza,Zona San Pao
	lo Antifascista
END:VEVENT
END:VCALENDAR
